BEGIN:VCALENDAR
VERSION:2.0
PRODID:-//Sedleys CofE Primary School - ECPv6.15.20//NONSGML v1.0//EN
CALSCALE:GREGORIAN
METHOD:PUBLISH
X-WR-CALNAME:Sedleys CofE Primary School
X-ORIGINAL-URL:https://www.sedleys.kent.sch.uk
X-WR-CALDESC:Events for Sedleys CofE Primary School
REFRESH-INTERVAL;VALUE=DURATION:PT1H
X-Robots-Tag:noindex
X-PUBLISHED-TTL:PT1H
BEGIN:VTIMEZONE
TZID:Europe/London
BEGIN:DAYLIGHT
TZOFFSETFROM:+0000
TZOFFSETTO:+0100
TZNAME:BST
DTSTART:20220327T010000
END:DAYLIGHT
BEGIN:STANDARD
TZOFFSETFROM:+0100
TZOFFSETTO:+0000
TZNAME:GMT
DTSTART:20221030T010000
END:STANDARD
BEGIN:DAYLIGHT
TZOFFSETFROM:+0000
TZOFFSETTO:+0100
TZNAME:BST
DTSTART:20230326T010000
END:DAYLIGHT
BEGIN:STANDARD
TZOFFSETFROM:+0100
TZOFFSETTO:+0000
TZNAME:GMT
DTSTART:20231029T010000
END:STANDARD
BEGIN:DAYLIGHT
TZOFFSETFROM:+0000
TZOFFSETTO:+0100
TZNAME:BST
DTSTART:20240331T010000
END:DAYLIGHT
BEGIN:STANDARD
TZOFFSETFROM:+0100
TZOFFSETTO:+0000
TZNAME:GMT
DTSTART:20241027T010000
END:STANDARD
END:VTIMEZONE
BEGIN:VEVENT
DTSTART;VALUE=DATE:20230626
DTEND;VALUE=DATE:20230701
DTSTAMP:20260425T224320
CREATED:20221122T111442Z
LAST-MODIFIED:20221122T111442Z
UID:14025-1687737600-1688169599@www.sedleys.kent.sch.uk
SUMMARY:Sports Week
DESCRIPTION:
URL:https://www.sedleys.kent.sch.uk/event/sports-week-3/
END:VEVENT
BEGIN:VEVENT
DTSTART;TZID=Europe/London:20230627T093000
DTEND;TZID=Europe/London:20230627T100000
DTSTAMP:20260425T224320
CREATED:20221122T111622Z
LAST-MODIFIED:20230607T114219Z
UID:14027-1687858200-1687860000@www.sedleys.kent.sch.uk
SUMMARY:Reception Playdates - New Reception Intake
DESCRIPTION:
URL:https://www.sedleys.kent.sch.uk/event/reception-playdates-new-reception-intake/
END:VEVENT
BEGIN:VEVENT
DTSTART;TZID=Europe/London:20230627T133000
DTEND;TZID=Europe/London:20230627T143000
DTSTAMP:20260425T224320
CREATED:20221122T111717Z
LAST-MODIFIED:20230607T114422Z
UID:14029-1687872600-1687876200@www.sedleys.kent.sch.uk
SUMMARY:Reception Playdates - New Reception Intake
DESCRIPTION:
URL:https://www.sedleys.kent.sch.uk/event/reception-playdates-new-reception-intake-2/
END:VEVENT
END:VCALENDAR