BEGIN:VCALENDAR
VERSION:2.0
PRODID:-//Sedleys CofE Primary School - ECPv6.15.20//NONSGML v1.0//EN
CALSCALE:GREGORIAN
METHOD:PUBLISH
X-WR-CALNAME:Sedleys CofE Primary School
X-ORIGINAL-URL:https://www.sedleys.kent.sch.uk
X-WR-CALDESC:Events for Sedleys CofE Primary School
REFRESH-INTERVAL;VALUE=DURATION:PT1H
X-Robots-Tag:noindex
X-PUBLISHED-TTL:PT1H
BEGIN:VTIMEZONE
TZID:Europe/London
BEGIN:DAYLIGHT
TZOFFSETFROM:+0000
TZOFFSETTO:+0100
TZNAME:BST
DTSTART:20220327T010000
END:DAYLIGHT
BEGIN:STANDARD
TZOFFSETFROM:+0100
TZOFFSETTO:+0000
TZNAME:GMT
DTSTART:20221030T010000
END:STANDARD
BEGIN:DAYLIGHT
TZOFFSETFROM:+0000
TZOFFSETTO:+0100
TZNAME:BST
DTSTART:20230326T010000
END:DAYLIGHT
BEGIN:STANDARD
TZOFFSETFROM:+0100
TZOFFSETTO:+0000
TZNAME:GMT
DTSTART:20231029T010000
END:STANDARD
BEGIN:DAYLIGHT
TZOFFSETFROM:+0000
TZOFFSETTO:+0100
TZNAME:BST
DTSTART:20240331T010000
END:DAYLIGHT
BEGIN:STANDARD
TZOFFSETFROM:+0100
TZOFFSETTO:+0000
TZNAME:GMT
DTSTART:20241027T010000
END:STANDARD
BEGIN:DAYLIGHT
TZOFFSETFROM:+0000
TZOFFSETTO:+0100
TZNAME:BST
DTSTART:20250330T010000
END:DAYLIGHT
BEGIN:STANDARD
TZOFFSETFROM:+0100
TZOFFSETTO:+0000
TZNAME:GMT
DTSTART:20251026T010000
END:STANDARD
END:VTIMEZONE
BEGIN:VEVENT
DTSTART;VALUE=DATE:20240903
DTEND;VALUE=DATE:20240904
DTSTAMP:20260422T001822
CREATED:20220907T112937Z
LAST-MODIFIED:20240730T133115Z
UID:12240-1725321600-1725407999@www.sedleys.kent.sch.uk
SUMMARY:All children return to school.
DESCRIPTION:
URL:https://www.sedleys.kent.sch.uk/event/all-children-return-to-school-2/
CATEGORIES:Term Dates
END:VEVENT
BEGIN:VEVENT
DTSTART;VALUE=DATE:20240902
DTEND;VALUE=DATE:20240903
DTSTAMP:20260422T001822
CREATED:20220907T112938Z
LAST-MODIFIED:20240730T133130Z
UID:12248-1725235200-1725321599@www.sedleys.kent.sch.uk
SUMMARY:Staff inset day - children not in school.
DESCRIPTION:
URL:https://www.sedleys.kent.sch.uk/event/staff-inset-day-children-not-in-school-3/
CATEGORIES:Term Dates
END:VEVENT
BEGIN:VEVENT
DTSTART;TZID=Europe/London:20230721T091500
DTEND;TZID=Europe/London:20230721T101500
DTSTAMP:20260422T001822
CREATED:20221122T113946Z
LAST-MODIFIED:20221122T113946Z
UID:14041-1689930900-1689934500@www.sedleys.kent.sch.uk
SUMMARY:Year 6 Celebration Worship
DESCRIPTION:
URL:https://www.sedleys.kent.sch.uk/event/year-6-celebration-worship/
END:VEVENT
BEGIN:VEVENT
DTSTART;TZID=Europe/London:20230720T140000
DTEND;TZID=Europe/London:20230720T150000
DTSTAMP:20260422T001822
CREATED:20221122T113841Z
LAST-MODIFIED:20221122T113841Z
UID:14037-1689861600-1689865200@www.sedleys.kent.sch.uk
SUMMARY:Year 6 Leavers Church Service
DESCRIPTION:
URL:https://www.sedleys.kent.sch.uk/event/year-6-leavers-church-service/
END:VEVENT
BEGIN:VEVENT
DTSTART;VALUE=DATE:20230720
DTEND;VALUE=DATE:20230721
DTSTAMP:20260422T001822
CREATED:20221122T113910Z
LAST-MODIFIED:20221122T113910Z
UID:14039-1689811200-1689897599@www.sedleys.kent.sch.uk
SUMMARY:Year 6 Leavers Party
DESCRIPTION:
URL:https://www.sedleys.kent.sch.uk/event/year-6-leavers-party/
END:VEVENT
BEGIN:VEVENT
DTSTART;TZID=Europe/London:20230717T190000
DTEND;TZID=Europe/London:20230717T200000
DTSTAMP:20260422T001822
CREATED:20221122T112340Z
LAST-MODIFIED:20221122T112340Z
UID:14035-1689620400-1689624000@www.sedleys.kent.sch.uk
SUMMARY:End of Year Performance
DESCRIPTION:
URL:https://www.sedleys.kent.sch.uk/event/end-of-year-performance/
END:VEVENT
BEGIN:VEVENT
DTSTART;VALUE=DATE:20230713
DTEND;VALUE=DATE:20230714
DTSTAMP:20260422T001822
CREATED:20221122T112214Z
LAST-MODIFIED:20221122T112249Z
UID:14033-1689206400-1689292799@www.sedleys.kent.sch.uk
SUMMARY:Transition Day
DESCRIPTION:
URL:https://www.sedleys.kent.sch.uk/event/transition-day/
END:VEVENT
BEGIN:VEVENT
DTSTART;TZID=Europe/London:20230711T140000
DTEND;TZID=Europe/London:20230711T160000
DTSTAMP:20260422T001822
CREATED:20221122T112042Z
LAST-MODIFIED:20221122T112042Z
UID:14031-1689084000-1689091200@www.sedleys.kent.sch.uk
SUMMARY:Open Afternoon - Parents to look at child's learning
DESCRIPTION:
URL:https://www.sedleys.kent.sch.uk/event/open-afternoon-parents-to-look-at-childs-learning/
END:VEVENT
BEGIN:VEVENT
DTSTART;TZID=Europe/London:20230705T093000
DTEND;TZID=Europe/London:20230705T103000
DTSTAMP:20260422T001822
CREATED:20230607T114658Z
LAST-MODIFIED:20230607T114658Z
UID:14846-1688549400-1688553000@www.sedleys.kent.sch.uk
SUMMARY:Reception Playdates - New Reception Intake
DESCRIPTION:
URL:https://www.sedleys.kent.sch.uk/event/reception-playdates-new-reception-intake-3/
END:VEVENT
BEGIN:VEVENT
DTSTART;TZID=Europe/London:20230703T000000
DTEND;TZID=Europe/London:20230703T000000
DTSTAMP:20260422T001822
CREATED:20220907T114947Z
LAST-MODIFIED:20221122T105339Z
UID:12304-1688342400-1688342400@www.sedleys.kent.sch.uk
SUMMARY:Staff inset day
DESCRIPTION:
URL:https://www.sedleys.kent.sch.uk/event/staff-inset-day/
CATEGORIES:Term Dates
END:VEVENT
BEGIN:VEVENT
DTSTART;VALUE=DATE:20230630
DTEND;VALUE=DATE:20230701
DTSTAMP:20260422T001822
CREATED:20230607T115003Z
LAST-MODIFIED:20230607T115805Z
UID:14848-1688083200-1688169599@www.sedleys.kent.sch.uk
SUMMARY:Sports Day
DESCRIPTION:
URL:https://www.sedleys.kent.sch.uk/event/sports-days/
END:VEVENT
BEGIN:VEVENT
DTSTART;VALUE=DATE:20230629
DTEND;VALUE=DATE:20230630
DTSTAMP:20260422T001822
CREATED:20221122T111341Z
LAST-MODIFIED:20221122T111341Z
UID:14023-1687996800-1688083199@www.sedleys.kent.sch.uk
SUMMARY:Class Photographs
DESCRIPTION:
URL:https://www.sedleys.kent.sch.uk/event/class-photographs/
END:VEVENT
BEGIN:VEVENT
DTSTART;TZID=Europe/London:20230627T133000
DTEND;TZID=Europe/London:20230627T143000
DTSTAMP:20260422T001822
CREATED:20221122T111717Z
LAST-MODIFIED:20230607T114422Z
UID:14029-1687872600-1687876200@www.sedleys.kent.sch.uk
SUMMARY:Reception Playdates - New Reception Intake
DESCRIPTION:
URL:https://www.sedleys.kent.sch.uk/event/reception-playdates-new-reception-intake-2/
END:VEVENT
BEGIN:VEVENT
DTSTART;TZID=Europe/London:20230627T093000
DTEND;TZID=Europe/London:20230627T100000
DTSTAMP:20260422T001822
CREATED:20221122T111622Z
LAST-MODIFIED:20230607T114219Z
UID:14027-1687858200-1687860000@www.sedleys.kent.sch.uk
SUMMARY:Reception Playdates - New Reception Intake
DESCRIPTION:
URL:https://www.sedleys.kent.sch.uk/event/reception-playdates-new-reception-intake/
END:VEVENT
BEGIN:VEVENT
DTSTART;VALUE=DATE:20230626
DTEND;VALUE=DATE:20230701
DTSTAMP:20260422T001822
CREATED:20221122T111442Z
LAST-MODIFIED:20221122T111442Z
UID:14025-1687737600-1688169599@www.sedleys.kent.sch.uk
SUMMARY:Sports Week
DESCRIPTION:
URL:https://www.sedleys.kent.sch.uk/event/sports-week-3/
END:VEVENT
BEGIN:VEVENT
DTSTART;TZID=Europe/London:20230620T191500
DTEND;TZID=Europe/London:20230620T200000
DTSTAMP:20260422T001822
CREATED:20221122T111258Z
LAST-MODIFIED:20221122T111258Z
UID:14021-1687288500-1687291200@www.sedleys.kent.sch.uk
SUMMARY:Secondary Transfer Parents Meeting
DESCRIPTION:
URL:https://www.sedleys.kent.sch.uk/event/secondary-transfer-parents-meeting/
END:VEVENT
BEGIN:VEVENT
DTSTART;VALUE=DATE:20230620
DTEND;VALUE=DATE:20230621
DTSTAMP:20260422T001822
CREATED:20221122T111207Z
LAST-MODIFIED:20221122T111207Z
UID:14019-1687219200-1687305599@www.sedleys.kent.sch.uk
SUMMARY:New Parents Meeting (EYFS 2023)
DESCRIPTION:
URL:https://www.sedleys.kent.sch.uk/event/new-parents-meeting-eyfs-2023/
END:VEVENT
BEGIN:VEVENT
DTSTART;TZID=Europe/London:20230612T000000
DTEND;TZID=Europe/London:20230612T000000
DTSTAMP:20260422T001822
CREATED:20220907T114932Z
LAST-MODIFIED:20220907T114932Z
UID:12301-1686528000-1686528000@www.sedleys.kent.sch.uk
SUMMARY:Year 1 Phonics Screening Week.
DESCRIPTION:
URL:https://www.sedleys.kent.sch.uk/event/year-1-phonics-screening-week-2/
END:VEVENT
BEGIN:VEVENT
DTSTART;TZID=Europe/London:20230605T000000
DTEND;TZID=Europe/London:20230623T000000
DTSTAMP:20260422T001822
CREATED:20220907T114932Z
LAST-MODIFIED:20220907T120444Z
UID:12300-1685923200-1687478400@www.sedleys.kent.sch.uk
SUMMARY:Year 4 Multiplication Check Window.
DESCRIPTION:
URL:https://www.sedleys.kent.sch.uk/event/year-4-multiplication-check-window-2/
END:VEVENT
BEGIN:VEVENT
DTSTART;TZID=Europe/London:20230531T080000
DTEND;TZID=Europe/London:20230531T170000
DTSTAMP:20260422T001822
CREATED:20220907T120237Z
LAST-MODIFIED:20220907T120237Z
UID:12335-1685520000-1685552400@www.sedleys.kent.sch.uk
SUMMARY:Key Stage 1 SATs Finish (Year 2)
DESCRIPTION:
URL:https://www.sedleys.kent.sch.uk/event/key-stage-1-sats-finish-year-2/
END:VEVENT
BEGIN:VEVENT
DTSTART;TZID=Europe/London:20230523T140000
DTEND;TZID=Europe/London:20230523T150000
DTSTAMP:20260422T001822
CREATED:20221122T111017Z
LAST-MODIFIED:20221122T111116Z
UID:14017-1684850400-1684854000@www.sedleys.kent.sch.uk
SUMMARY:Reception Parents Drop-in
DESCRIPTION:
URL:https://www.sedleys.kent.sch.uk/event/reception-parents-drop-in/
END:VEVENT
BEGIN:VEVENT
DTSTART;VALUE=DATE:20230522
DTEND;VALUE=DATE:20230527
DTSTAMP:20260422T001822
CREATED:20221122T110917Z
LAST-MODIFIED:20221122T110917Z
UID:14015-1684713600-1685145599@www.sedleys.kent.sch.uk
SUMMARY:Take One Science Week
DESCRIPTION:
URL:https://www.sedleys.kent.sch.uk/event/take-one-science-week/
END:VEVENT
BEGIN:VEVENT
DTSTART;TZID=Europe/London:20230508T000000
DTEND;TZID=Europe/London:20230511T000000
DTSTAMP:20260422T001822
CREATED:20220907T114753Z
LAST-MODIFIED:20220907T120354Z
UID:12295-1683504000-1683763200@www.sedleys.kent.sch.uk
SUMMARY:Year 6 SAT's week.
DESCRIPTION:
URL:https://www.sedleys.kent.sch.uk/event/year-6-sats-week-2/
END:VEVENT
BEGIN:VEVENT
DTSTART;TZID=Europe/London:20230508T000000
DTEND;TZID=Europe/London:20230508T000000
DTSTAMP:20260422T001822
CREATED:20220907T114753Z
LAST-MODIFIED:20220907T114753Z
UID:12294-1683504000-1683504000@www.sedleys.kent.sch.uk
SUMMARY:Mental Health Awareness Day
DESCRIPTION:
URL:https://www.sedleys.kent.sch.uk/event/mental-health-awareness-day-2/
END:VEVENT
BEGIN:VEVENT
DTSTART;TZID=Europe/London:20230506T110000
DTEND;TZID=Europe/London:20230506T150000
DTSTAMP:20260422T001822
CREATED:20221122T110833Z
LAST-MODIFIED:20221122T110833Z
UID:14013-1683370800-1683385200@www.sedleys.kent.sch.uk
SUMMARY:May Fair
DESCRIPTION:
URL:https://www.sedleys.kent.sch.uk/event/may-fair/
END:VEVENT
BEGIN:VEVENT
DTSTART;TZID=Europe/London:20230505T084500
DTEND;TZID=Europe/London:20230505T100000
DTSTAMP:20260422T001822
CREATED:20221122T110758Z
LAST-MODIFIED:20221122T110758Z
UID:14011-1683276300-1683280800@www.sedleys.kent.sch.uk
SUMMARY:Parents Drop-in - Coffee and Cake
DESCRIPTION:
URL:https://www.sedleys.kent.sch.uk/event/parents-drop-in-coffee-and-cake/
END:VEVENT
BEGIN:VEVENT
DTSTART;TZID=Europe/London:20230501T080000
DTEND;TZID=Europe/London:20230501T170000
DTSTAMP:20260422T001822
CREATED:20220907T120217Z
LAST-MODIFIED:20220907T120335Z
UID:12333-1682928000-1682960400@www.sedleys.kent.sch.uk
SUMMARY:Key Stage 1 SATs Start (Year 2)
DESCRIPTION:
URL:https://www.sedleys.kent.sch.uk/event/key-stage-1-sats-year-2-2/
END:VEVENT
BEGIN:VEVENT
DTSTART;TZID=Europe/London:20230424T143000
DTEND;TZID=Europe/London:20230424T170000
DTSTAMP:20260422T001822
CREATED:20220907T114553Z
LAST-MODIFIED:20220907T120113Z
UID:12292-1682346600-1682355600@www.sedleys.kent.sch.uk
SUMMARY:Year 6 SAT's meeting to parents in hall
DESCRIPTION:
URL:https://www.sedleys.kent.sch.uk/event/year-6-sats-meeting-to-parents-in-hall-14-45-2/
END:VEVENT
BEGIN:VEVENT
DTSTART;TZID=Europe/London:20230331T144500
DTEND;TZID=Europe/London:20230331T151500
DTSTAMP:20260422T001822
CREATED:20221122T110720Z
LAST-MODIFIED:20221122T110720Z
UID:14009-1680273900-1680275700@www.sedleys.kent.sch.uk
SUMMARY:Easter Cake Sale
DESCRIPTION:
URL:https://www.sedleys.kent.sch.uk/event/easter-cake-sale/
END:VEVENT
BEGIN:VEVENT
DTSTART;VALUE=DATE:20230331
DTEND;VALUE=DATE:20230401
DTSTAMP:20260422T001822
CREATED:20221122T110633Z
LAST-MODIFIED:20221122T110633Z
UID:14007-1680220800-1680307199@www.sedleys.kent.sch.uk
SUMMARY:Easter Garden Competition
DESCRIPTION:
URL:https://www.sedleys.kent.sch.uk/event/easter-garden-competition/
END:VEVENT
END:VCALENDAR